BEGIN:VCALENDAR
VERSION:2.0
PRODID:-//Ice-dance.com - ECPv6.15.20//NONSGML v1.0//EN
CALSCALE:GREGORIAN
METHOD:PUBLISH
X-WR-CALNAME:Ice-dance.com
X-ORIGINAL-URL:https://www.ice-dance.com/site
X-WR-CALDESC:Events for Ice-dance.com
REFRESH-INTERVAL;VALUE=DURATION:PT1H
X-Robots-Tag:noindex
X-PUBLISHED-TTL:PT1H
BEGIN:VTIMEZONE
TZID:America/New_York
BEGIN:DAYLIGHT
TZOFFSETFROM:-0500
TZOFFSETTO:-0400
TZNAME:EDT
DTSTART:20250309T070000
END:DAYLIGHT
BEGIN:STANDARD
TZOFFSETFROM:-0400
TZOFFSETTO:-0500
TZNAME:EST
DTSTART:20251102T060000
END:STANDARD
BEGIN:DAYLIGHT
TZOFFSETFROM:-0500
TZOFFSETTO:-0400
TZNAME:EDT
DTSTART:20260308T070000
END:DAYLIGHT
BEGIN:STANDARD
TZOFFSETFROM:-0400
TZOFFSETTO:-0500
TZNAME:EST
DTSTART:20261101T060000
END:STANDARD
BEGIN:DAYLIGHT
TZOFFSETFROM:-0500
TZOFFSETTO:-0400
TZNAME:EDT
DTSTART:20270314T070000
END:DAYLIGHT
BEGIN:STANDARD
TZOFFSETFROM:-0400
TZOFFSETTO:-0500
TZNAME:EST
DTSTART:20271107T060000
END:STANDARD
END:VTIMEZONE
BEGIN:VEVENT
DTSTART;VALUE=DATE:20260415
DTEND;VALUE=DATE:20260420
DTSTAMP:20260424T202847
CREATED:20260415T175621Z
LAST-MODIFIED:20260415T175652Z
UID:43087-1776211200-1776643199@www.ice-dance.com
SUMMARY:2026 British Solo Dance Championships
DESCRIPTION:Sheffield\, United Kingdom \n\nEntries & Results
URL:https://www.ice-dance.com/site/event/2026-british-solo-dance-championships/
LOCATION:Ice Sheffield\, 23 Coleridge Rd\, Sheffield\, S9 5DA\, United Kingdom
CATEGORIES:National Competitions,Solo Competitions
ORGANIZER;CN="British Ice Skating":MAILTO:info@iceskating.org.uk
END:VEVENT
END:VCALENDAR