BEGIN:VCALENDAR
VERSION:2.0
PRODID:-//Ice-dance.com - ECPv6.15.20//NONSGML v1.0//EN
CALSCALE:GREGORIAN
METHOD:PUBLISH
X-WR-CALNAME:Ice-dance.com
X-ORIGINAL-URL:https://www.ice-dance.com/site
X-WR-CALDESC:Events for Ice-dance.com
REFRESH-INTERVAL;VALUE=DURATION:PT1H
X-Robots-Tag:noindex
X-PUBLISHED-TTL:PT1H
BEGIN:VTIMEZONE
TZID:America/New_York
BEGIN:DAYLIGHT
TZOFFSETFROM:-0500
TZOFFSETTO:-0400
TZNAME:EDT
DTSTART:20250309T070000
END:DAYLIGHT
BEGIN:STANDARD
TZOFFSETFROM:-0400
TZOFFSETTO:-0500
TZNAME:EST
DTSTART:20251102T060000
END:STANDARD
BEGIN:DAYLIGHT
TZOFFSETFROM:-0500
TZOFFSETTO:-0400
TZNAME:EDT
DTSTART:20260308T070000
END:DAYLIGHT
BEGIN:STANDARD
TZOFFSETFROM:-0400
TZOFFSETTO:-0500
TZNAME:EST
DTSTART:20261101T060000
END:STANDARD
BEGIN:DAYLIGHT
TZOFFSETFROM:-0500
TZOFFSETTO:-0400
TZNAME:EDT
DTSTART:20270314T070000
END:DAYLIGHT
BEGIN:STANDARD
TZOFFSETFROM:-0400
TZOFFSETTO:-0500
TZNAME:EST
DTSTART:20271107T060000
END:STANDARD
END:VTIMEZONE
BEGIN:VEVENT
DTSTART;VALUE=DATE:20260812
DTEND;VALUE=DATE:20260817
DTSTAMP:20260425T154224
CREATED:20260304T010848Z
LAST-MODIFIED:20260304T010848Z
UID:42606-1786492800-1786924799@www.ice-dance.com
SUMMARY:2026 Copper Cup
DESCRIPTION:Bountiful\, UT \n\nEntries & Results
URL:https://www.ice-dance.com/site/event/2026-copper-cup/
LOCATION:South Davis Recreation Center\, 550 N 200 W\, Bountiful\, UT\, 84010\, United States
CATEGORIES:Solo Competitions
END:VEVENT
END:VCALENDAR