BEGIN:VCALENDAR
VERSION:2.0
PRODID:-//Ice-dance.com - ECPv6.15.20//NONSGML v1.0//EN
CALSCALE:GREGORIAN
METHOD:PUBLISH
X-WR-CALNAME:Ice-dance.com
X-ORIGINAL-URL:https://www.ice-dance.com/site
X-WR-CALDESC:Events for Ice-dance.com
REFRESH-INTERVAL;VALUE=DURATION:PT1H
X-Robots-Tag:noindex
X-PUBLISHED-TTL:PT1H
BEGIN:VTIMEZONE
TZID:America/New_York
BEGIN:DAYLIGHT
TZOFFSETFROM:-0500
TZOFFSETTO:-0400
TZNAME:EDT
DTSTART:20250309T070000
END:DAYLIGHT
BEGIN:STANDARD
TZOFFSETFROM:-0400
TZOFFSETTO:-0500
TZNAME:EST
DTSTART:20251102T060000
END:STANDARD
BEGIN:DAYLIGHT
TZOFFSETFROM:-0500
TZOFFSETTO:-0400
TZNAME:EDT
DTSTART:20260308T070000
END:DAYLIGHT
BEGIN:STANDARD
TZOFFSETFROM:-0400
TZOFFSETTO:-0500
TZNAME:EST
DTSTART:20261101T060000
END:STANDARD
BEGIN:DAYLIGHT
TZOFFSETFROM:-0500
TZOFFSETTO:-0400
TZNAME:EDT
DTSTART:20270314T070000
END:DAYLIGHT
BEGIN:STANDARD
TZOFFSETFROM:-0400
TZOFFSETTO:-0500
TZNAME:EST
DTSTART:20271107T060000
END:STANDARD
END:VTIMEZONE
BEGIN:VEVENT
DTSTART;VALUE=DATE:20260528
DTEND;VALUE=DATE:20260601
DTSTAMP:20260424T170513
CREATED:20260304T005549Z
LAST-MODIFIED:20260304T005549Z
UID:42595-1779926400-1780271999@www.ice-dance.com
SUMMARY:2026 Traverse City Cherry Classic
DESCRIPTION:Traverse City\, MI \n\nEntries & Results
URL:https://www.ice-dance.com/site/event/2026-traverse-city-cherry-classic/
LOCATION:Centre Ice Arena\, 1600 Chartwell Dr\, Traverse City\, MI\, 49686\, United States
CATEGORIES:Solo Competitions
END:VEVENT
END:VCALENDAR